BEGIN:VCALENDAR
VERSION:2.0
PRODID:-//Tukios.com/
BEGIN:VEVENT
UID:15de7f22-7c07-446d-b84f-6237fc48935c@www.hemmingsenfuneralhome.com
DTSTAMP:20260420T012913Z
DTSTART:20260427T190000Z
DTEND:20260427T200000Z
SUMMARY:Memorial Service
DESCRIPTION:
URL:https://www.hemmingsenfuneralhome.com/obituaries/connie-alexander
LOCATION:Hemmingsen Funeral Home 801 S St  Auburn NE 68305
GEO:40.3967937;-95.8505917
END:VEVENT
END:VCALENDAR