BEGIN:VCALENDAR
VERSION:2.0
PRODID:-//Tukios.com/
BEGIN:VEVENT
UID:1f218f42-24e4-4fed-a38e-417fd966b51c@www.hemmingsenfuneralhome.com
DTSTAMP:20260421T193621Z
DTSTART:20260424T180000Z
DTEND:20260424T190000Z
SUMMARY:Memorial Service
DESCRIPTION:
URL:https://www.hemmingsenfuneralhome.com/obituaries/kay-boellstorff
LOCATION:Southview Christian Church 2040 South 22nd Street  Lincoln NE 
	68502
GEO:40.791847;-96.6893093
END:VEVENT
END:VCALENDAR