BEGIN:VCALENDAR
VERSION:2.0
PRODID:-//Tukios.com/
BEGIN:VEVENT
UID:ad80032b-0c13-4497-982b-0774d0da5b15@www.hemmingsenfuneralhome.com
DTSTAMP:20260421T193551Z
DTSTART:20260424
SUMMARY:Burial
DESCRIPTION:
URL:https://www.hemmingsenfuneralhome.com/obituaries/kay-boellstorff
LOCATION:Johnson Cemetery 730A Road  Johnson NE 68305
GEO:40.4143577;-95.9983126
END:VEVENT
END:VCALENDAR